BEGIN:VCALENDAR
VERSION:2.0
PRODID:LFV Website-Kit
METHOD:PUBLISH
BEGIN:VEVENT
UID:lfv-21ea8601-a039-43e6-8076-b4ea4dc51f09
LOCATION:Hagenau 7, 91792 Ellingen
SUMMARY:Tag der offenen Tür - FF Ellingen
DESCRIPTION:Termin Link: https://www.kreisbrandinspektion-wug.de/termine/tag-der-offenen-tur-ff-ellingen/
URL:https://www.kreisbrandinspektion-wug.de/termine/tag-der-offenen-tur-ff-ellingen/
CLASS:PRIVATE
DTSTART;TZID=Europe/Berlin:20260614T100000
DTEND;TZID=Europe/Berlin:20260614T170000
DTSTAMP:20260420T132637Z
END:VEVENT
END:VCALENDAR